BEGIN:VCALENDAR
VERSION:2.0
PRODID:-//Scannappeal - ECPv6.15.20//NONSGML v1.0//EN
CALSCALE:GREGORIAN
METHOD:PUBLISH
X-WR-CALNAME:Scannappeal
X-ORIGINAL-URL:https://scannappeal.org.uk
X-WR-CALDESC:Events for Scannappeal
REFRESH-INTERVAL;VALUE=DURATION:PT1H
X-Robots-Tag:noindex
X-PUBLISHED-TTL:PT1H
BEGIN:VTIMEZONE
TZID:Europe/London
BEGIN:DAYLIGHT
TZOFFSETFROM:+0000
TZOFFSETTO:+0100
TZNAME:BST
DTSTART:20190331T010000
END:DAYLIGHT
BEGIN:STANDARD
TZOFFSETFROM:+0100
TZOFFSETTO:+0000
TZNAME:GMT
DTSTART:20191027T010000
END:STANDARD
BEGIN:DAYLIGHT
TZOFFSETFROM:+0000
TZOFFSETTO:+0100
TZNAME:BST
DTSTART:20200329T010000
END:DAYLIGHT
BEGIN:STANDARD
TZOFFSETFROM:+0100
TZOFFSETTO:+0000
TZNAME:GMT
DTSTART:20201025T010000
END:STANDARD
BEGIN:DAYLIGHT
TZOFFSETFROM:+0000
TZOFFSETTO:+0100
TZNAME:BST
DTSTART:20210328T010000
END:DAYLIGHT
BEGIN:STANDARD
TZOFFSETFROM:+0100
TZOFFSETTO:+0000
TZNAME:GMT
DTSTART:20211031T010000
END:STANDARD
END:VTIMEZONE
BEGIN:VEVENT
DTSTART;TZID=Europe/London:20200719T140000
DTEND;TZID=Europe/London:20200719T170000
DTSTAMP:20260422T113838
CREATED:20200211T124920Z
LAST-MODIFIED:20200507T132732Z
UID:5059-1595167200-1595178000@scannappeal.org.uk
SUMMARY:Oakington Avenue - Open Garden
DESCRIPTION:***EVENT CANCELLED*** \nThis small garden with many areas of interest has been developed from scratch by the current owners over 19 years. The main lawn is surrounded by cultivated beds containing a variety of evergreen shrubs\, acers and hostas with a central reclaimed antique cast iron water feature. There are a number of small trees and a display of summer bedding. Also featured is a working greenhouse\, a vegetable garden with raised beds and a small fish pond set on an area of decking. Please note that there is gravel in the front of the house. Refreshments available to purchase throughout the afternoon. \nTickets £5 in advance. \nNotes:- No dogs allowed. \n 
URL:https://scannappeal.org.uk/event/oakington-avenue-open-garden/
LOCATION:Oakington Avenue\, 14 Oakington Avenue\, Little Chalfont\, HP6 6SY
ATTACH;FMTTYPE=image/png:https://scannappeal.org.uk/app/uploads/2020/02/Copy-of-Headers-Website-Main-Hero-39.png
END:VEVENT
END:VCALENDAR