BEGIN:VCALENDAR
VERSION:2.0
PRODID:-//Scannappeal - ECPv6.15.20//NONSGML v1.0//EN
CALSCALE:GREGORIAN
METHOD:PUBLISH
X-WR-CALNAME:Scannappeal
X-ORIGINAL-URL:https://scannappeal.org.uk
X-WR-CALDESC:Events for Scannappeal
REFRESH-INTERVAL;VALUE=DURATION:PT1H
X-Robots-Tag:noindex
X-PUBLISHED-TTL:PT1H
BEGIN:VTIMEZONE
TZID:Europe/London
BEGIN:DAYLIGHT
TZOFFSETFROM:+0000
TZOFFSETTO:+0100
TZNAME:BST
DTSTART:20180325T010000
END:DAYLIGHT
BEGIN:STANDARD
TZOFFSETFROM:+0100
TZOFFSETTO:+0000
TZNAME:GMT
DTSTART:20181028T010000
END:STANDARD
BEGIN:DAYLIGHT
TZOFFSETFROM:+0000
TZOFFSETTO:+0100
TZNAME:BST
DTSTART:20190331T010000
END:DAYLIGHT
BEGIN:STANDARD
TZOFFSETFROM:+0100
TZOFFSETTO:+0000
TZNAME:GMT
DTSTART:20191027T010000
END:STANDARD
BEGIN:DAYLIGHT
TZOFFSETFROM:+0000
TZOFFSETTO:+0100
TZNAME:BST
DTSTART:20200329T010000
END:DAYLIGHT
BEGIN:STANDARD
TZOFFSETFROM:+0100
TZOFFSETTO:+0000
TZNAME:GMT
DTSTART:20201025T010000
END:STANDARD
END:VTIMEZONE
BEGIN:VEVENT
DTSTART;TZID=Europe/London:20190816T193000
DTEND;TZID=Europe/London:20190816T230000
DTSTAMP:20260422T144941
CREATED:20190304T140433Z
LAST-MODIFIED:20190814T102706Z
UID:3342-1565983800-1565996400@scannappeal.org.uk
SUMMARY:Elvis - The King Remembered
DESCRIPTION:Tickets still available from Billy on 01494 439912. \nBilly and The Bonquas celebrate the music of Elvis Presley in style at this very popular annual event.  Dance the night away with friends and family to the many hits of The King and help raise vital funds for Scannappeal. Bar available. \nTickets: £12.50 each from Billy Gallacher on 01494 439912.
URL:https://scannappeal.org.uk/event/elvis-the-king-remembered-2/
LOCATION:Hazlemere Community Centre\, Rose Avenue\, Hazlemere\, Buckinghamshire\, HP15 7UB
ATTACH;FMTTYPE=image/png:https://scannappeal.org.uk/app/uploads/2019/03/Headers-Website-Main-Hero-25.png
END:VEVENT
END:VCALENDAR