BEGIN:VCALENDAR
VERSION:2.0
PRODID:-//Scannappeal - ECPv6.15.20//NONSGML v1.0//EN
CALSCALE:GREGORIAN
METHOD:PUBLISH
X-WR-CALNAME:Scannappeal
X-ORIGINAL-URL:https://scannappeal.org.uk
X-WR-CALDESC:Events for Scannappeal
REFRESH-INTERVAL;VALUE=DURATION:PT1H
X-Robots-Tag:noindex
X-PUBLISHED-TTL:PT1H
BEGIN:VTIMEZONE
TZID:Europe/London
BEGIN:DAYLIGHT
TZOFFSETFROM:+0000
TZOFFSETTO:+0100
TZNAME:BST
DTSTART:20210328T010000
END:DAYLIGHT
BEGIN:STANDARD
TZOFFSETFROM:+0100
TZOFFSETTO:+0000
TZNAME:GMT
DTSTART:20211031T010000
END:STANDARD
BEGIN:DAYLIGHT
TZOFFSETFROM:+0000
TZOFFSETTO:+0100
TZNAME:BST
DTSTART:20220327T010000
END:DAYLIGHT
BEGIN:STANDARD
TZOFFSETFROM:+0100
TZOFFSETTO:+0000
TZNAME:GMT
DTSTART:20221030T010000
END:STANDARD
BEGIN:DAYLIGHT
TZOFFSETFROM:+0000
TZOFFSETTO:+0100
TZNAME:BST
DTSTART:20230326T010000
END:DAYLIGHT
BEGIN:STANDARD
TZOFFSETFROM:+0100
TZOFFSETTO:+0000
TZNAME:GMT
DTSTART:20231029T010000
END:STANDARD
END:VTIMEZONE
BEGIN:VEVENT
DTSTART;TZID=Europe/London:20220520T140000
DTEND;TZID=Europe/London:20220520T163000
DTSTAMP:20260422T100827
CREATED:20220207T114117Z
LAST-MODIFIED:20220518T113014Z
UID:10399-1653055200-1653064200@scannappeal.org.uk
SUMMARY:Bledlow Manor Open Garden
DESCRIPTION:A garden many of our supporters return to again and again. Set in the Chiltern Hills near Princes Risborough these are the private gardens of Lord Carrington\, designed by Robert Adam. A truly wonderful garden featuring parterres\, herbaceous borders\, beautiful walled kitchen garden\, water features and many contemporary sculptures. At this time of year\, and weather dependant\, the peonies will be a sight not to miss. \nNew for 2022 – As part of the Queen’s Green Canopy project in celebration of Her Majesty’s Platinum Jubilee \, the garden has planted a a Turner’s Oak (Quercus Turneri “Pseudoturneri”). \nEntertainment will be provided  by St Marys Brass on the lawn. Tea and home made cake will be available to purchase throughout the afternoon. \nTickets £7 in advance only. \nNotes:- No dogs allowed\, partial wheelchair access to the the garden and plenty of parking in adjacent field.
URL:https://scannappeal.org.uk/event/bledlow-manor-open-garden-4/
LOCATION:Bledlow Manor\, Bledlow\, HP27 9PA
ATTACH;FMTTYPE=image/jpeg:https://scannappeal.org.uk/app/uploads/2021/02/Bledlow.jpg
END:VEVENT
END:VCALENDAR