BEGIN:VCALENDAR
VERSION:2.0
PRODID:-//Scannappeal - ECPv6.15.20//NONSGML v1.0//EN
CALSCALE:GREGORIAN
METHOD:PUBLISH
X-WR-CALNAME:Scannappeal
X-ORIGINAL-URL:https://scannappeal.org.uk
X-WR-CALDESC:Events for Scannappeal
REFRESH-INTERVAL;VALUE=DURATION:PT1H
X-Robots-Tag:noindex
X-PUBLISHED-TTL:PT1H
BEGIN:VTIMEZONE
TZID:Europe/London
BEGIN:DAYLIGHT
TZOFFSETFROM:+0000
TZOFFSETTO:+0100
TZNAME:BST
DTSTART:20170326T010000
END:DAYLIGHT
BEGIN:STANDARD
TZOFFSETFROM:+0100
TZOFFSETTO:+0000
TZNAME:GMT
DTSTART:20171029T010000
END:STANDARD
BEGIN:DAYLIGHT
TZOFFSETFROM:+0000
TZOFFSETTO:+0100
TZNAME:BST
DTSTART:20180325T010000
END:DAYLIGHT
BEGIN:STANDARD
TZOFFSETFROM:+0100
TZOFFSETTO:+0000
TZNAME:GMT
DTSTART:20181028T010000
END:STANDARD
BEGIN:DAYLIGHT
TZOFFSETFROM:+0000
TZOFFSETTO:+0100
TZNAME:BST
DTSTART:20190331T010000
END:DAYLIGHT
BEGIN:STANDARD
TZOFFSETFROM:+0100
TZOFFSETTO:+0000
TZNAME:GMT
DTSTART:20191027T010000
END:STANDARD
END:VTIMEZONE
BEGIN:VEVENT
DTSTART;TZID=Europe/London:20181109T000000
DTEND;TZID=Europe/London:20181109T233000
DTSTAMP:20260422T100802
CREATED:20160711T230000Z
LAST-MODIFIED:20181102T163219Z
UID:1771-1541721600-1541806200@scannappeal.org.uk
SUMMARY:Aylesbury Comedy Night
DESCRIPTION:Tickets available at the door on a first come first serve basis \nJoin Scannappeal\, for our first Comedy Night to help raise vital funds for the See Eye Appeal . A line up of three comedians and an MC will get you laughing out loud whilst enjoying the surroundings of the Second Space at Aylesbury Waterside Theatre. \nOur comedians for the night are Alistair Barrie\, Mike Gunn and Chris Washington – Comedian. Joined by compere Ray Peacock \nTickets £20 \nDoors: 7.30pm \nFirst Act: 8.00pm
URL:https://scannappeal.org.uk/event/aylesbury-comedy-night/
ATTACH;FMTTYPE=image/jpeg:https://scannappeal.org.uk/app/uploads/2018/11/Lips-For-Event-Brite.jpg
END:VEVENT
END:VCALENDAR